BEGIN:VCALENDAR
VERSION:2.0
PRODID:-//Les Vert-e-s neuchâtelois-es - ECPv6.10.1.1//NONSGML v1.0//EN
CALSCALE:GREGORIAN
METHOD:PUBLISH
X-WR-CALNAME:Les Vert-e-s neuchâtelois-es
X-ORIGINAL-URL:https://verts-ne.ch
X-WR-CALDESC:Évènements pour Les Vert-e-s neuchâtelois-es
REFRESH-INTERVAL;VALUE=DURATION:PT1H
X-Robots-Tag:noindex
X-PUBLISHED-TTL:PT1H
BEGIN:VTIMEZONE
TZID:Europe/Zurich
BEGIN:DAYLIGHT
TZOFFSETFROM:+0100
TZOFFSETTO:+0200
TZNAME:CEST
DTSTART:20210328T010000
END:DAYLIGHT
BEGIN:STANDARD
TZOFFSETFROM:+0200
TZOFFSETTO:+0100
TZNAME:CET
DTSTART:20211031T010000
END:STANDARD
END:VTIMEZONE
BEGIN:VEVENT
DTSTART;TZID=Europe/Zurich:20210418T140000
DTEND;TZID=Europe/Zurich:20210418T160000
DTSTAMP:20260420T142112
CREATED:20210413T082729Z
LAST-MODIFIED:20210413T082729Z
UID:6655-1618754400-1618761600@verts-ne.ch
SUMMARY:A la découverte des sculptures de Neuchâtel
DESCRIPTION:Cette balade\, organisée par les candidat-e-s Vert-e-s de Corcelles-Cormondrèche\, est ouverte à tout-e-s. Toutes les infos ici.
URL:https://verts-ne.ch/event/a-la-decouverte-des-sculptures-de-neuchatel
LOCATION:Ville de Neuchâtel\, 2000
ATTACH;FMTTYPE=image/jpeg:https://verts-ne.ch/wp-content/uploads/sites/3/2021/04/Decouverts-sculputres_2.jpeg
END:VEVENT
END:VCALENDAR