BEGIN:VCALENDAR
VERSION:2.0
PRODID:-//Les Vert-e-s neuchâtelois-es - ECPv6.10.1.1//NONSGML v1.0//EN
CALSCALE:GREGORIAN
METHOD:PUBLISH
X-WR-CALNAME:Les Vert-e-s neuchâtelois-es
X-ORIGINAL-URL:https://verts-ne.ch
X-WR-CALDESC:Évènements pour Les Vert-e-s neuchâtelois-es
REFRESH-INTERVAL;VALUE=DURATION:PT1H
X-Robots-Tag:noindex
X-PUBLISHED-TTL:PT1H
BEGIN:VTIMEZONE
TZID:Europe/Zurich
BEGIN:DAYLIGHT
TZOFFSETFROM:+0100
TZOFFSETTO:+0200
TZNAME:CEST
DTSTART:20200329T010000
END:DAYLIGHT
BEGIN:STANDARD
TZOFFSETFROM:+0200
TZOFFSETTO:+0100
TZNAME:CET
DTSTART:20201025T010000
END:STANDARD
END:VTIMEZONE
BEGIN:VEVENT
DTSTART;TZID=Europe/Zurich:20200215T100000
DTEND;TZID=Europe/Zurich:20200215T140000
DTSTAMP:20260421T102528
CREATED:20200129T101721Z
LAST-MODIFIED:20200129T101721Z
UID:3595-1581760800-1581775200@verts-ne.ch
SUMMARY:Assemblée générale extraordinaire
DESCRIPTION:Lieu: Restaurant l’Interlope à Neuchâtel \nInscription obligatoire si participation au repas! \nOrdre du jour: \n1) Liste des présences et adoption de l’ordre du jour \n2) Nomination des scrutateurs/trices \n3) Procès-verbal de l’Assemblée générale ordinaire du 6 novembre (en annexe) \n4) Élections communales : point de la situation \n5) Présentations : « Mon expérience dans un législatif communal en 180 secondes » \n6) Discussion autour de l’engagement et du militantisme écologiste avec Claudia Dubuis\, docteure en sciences humaines et sociales\, chargée de cours en anthropologie politique de la nature à l’Université de Neuchâtel \n7) Élection au Comité des Verts suisses \n8) Communications du Bureau \n9) Divers
URL:https://verts-ne.ch/event/assemblee-generale-extraordinaire-2
ORGANIZER;CN="Les Verts neuch%C3%A2telois":MAILTO:verts-ne@bluewin.ch
END:VEVENT
END:VCALENDAR