BEGIN:VCALENDAR
VERSION:2.0
PRODID:-//Les Vert-e-s neuchâtelois-es - ECPv6.10.1.1//NONSGML v1.0//EN
CALSCALE:GREGORIAN
METHOD:PUBLISH
X-WR-CALNAME:Les Vert-e-s neuchâtelois-es
X-ORIGINAL-URL:https://verts-ne.ch
X-WR-CALDESC:Évènements pour Les Vert-e-s neuchâtelois-es
REFRESH-INTERVAL;VALUE=DURATION:PT1H
X-Robots-Tag:noindex
X-PUBLISHED-TTL:PT1H
BEGIN:VTIMEZONE
TZID:Europe/Zurich
BEGIN:DAYLIGHT
TZOFFSETFROM:+0100
TZOFFSETTO:+0200
TZNAME:CEST
DTSTART:20190331T010000
END:DAYLIGHT
BEGIN:STANDARD
TZOFFSETFROM:+0200
TZOFFSETTO:+0100
TZNAME:CET
DTSTART:20191027T010000
END:STANDARD
END:VTIMEZONE
BEGIN:VEVENT
DTSTART;TZID=Europe/Zurich:20191106T192000
DTEND;TZID=Europe/Zurich:20191106T210000
DTSTAMP:20260420T142043
CREATED:20191025T085520Z
LAST-MODIFIED:20191025T085520Z
UID:3367-1573068000-1573074000@verts-ne.ch
SUMMARY:Assemblée générale ordinaire des Verts neuchâtelois
DESCRIPTION:Lieu et date: Hôtel des Communes des Geneveys-sur-Coffrane de 19h20 à 21h \nOrdre du jour: \n\nListe des présences et adoption de l’ordre du jour\nNomination des scrutateurs/trices\nProcès-verbal de l’Assemblée générale ordinaire du 18 mai\nBudget 2020\nElections fédérales : bilan\nElections communales : point de la situation et création d’un groupe de campagne\nRives pour tout-e-s : point de la situation\nVoitures électriques : prise de position des Verts neuchâtelois\nCommunications du Bureau\nDivers
URL:https://verts-ne.ch/event/assemblee-generale-ordinaire-des-verts-neuchatelois-3
LOCATION:Hôtel des communes\, Les Geneveys-sur-Coffrane\, Rue du Premier-Mars 1\, Les Geneveys-sur-Coffrane\, 2206
ORGANIZER;CN="Secr%C3%A9tariat cantonal":MAILTO:verts-ne@bluewin.ch
END:VEVENT
END:VCALENDAR