BEGIN:VCALENDAR
VERSION:2.0
PRODID:-//Les Vert-e-s neuchâtelois-es - ECPv6.10.1.1//NONSGML v1.0//EN
CALSCALE:GREGORIAN
METHOD:PUBLISH
X-WR-CALNAME:Les Vert-e-s neuchâtelois-es
X-ORIGINAL-URL:https://verts-ne.ch
X-WR-CALDESC:Évènements pour Les Vert-e-s neuchâtelois-es
REFRESH-INTERVAL;VALUE=DURATION:PT1H
X-Robots-Tag:noindex
X-PUBLISHED-TTL:PT1H
BEGIN:VTIMEZONE
TZID:Europe/Zurich
BEGIN:DAYLIGHT
TZOFFSETFROM:+0100
TZOFFSETTO:+0200
TZNAME:CEST
DTSTART:20180325T010000
END:DAYLIGHT
BEGIN:STANDARD
TZOFFSETFROM:+0200
TZOFFSETTO:+0100
TZNAME:CET
DTSTART:20181028T010000
END:STANDARD
END:VTIMEZONE
BEGIN:VEVENT
DTSTART;TZID=Europe/Zurich:20181121T190000
DTEND;TZID=Europe/Zurich:20181121T220000
DTSTAMP:20260420T142043
CREATED:20180914T070638Z
LAST-MODIFIED:20180914T070638Z
UID:2497-1542826800-1542837600@verts-ne.ch
SUMMARY:Assemblée générale ordinaire des Verts neuchâtelois
DESCRIPTION:Lieu et date: Mercredi 21 novembre 2018 au Café de l’Univers à La Chaux-de-Fonds. \nOrdre du jour: \n1.Liste des présences et adoption de l’ordre du jour\n2.Nomination des scrutateurs/trices\n3.Procès-verbal de l’Assemblée générale extraordinaire du 29 août 2018\n4.Présentation des enjeux des élections fédérales 2019\n5.Présentation des candidat-e-s proposé-e-s par le Comité (5 min. chacun-e)\n6.Questions aux candidat-e-s (5 min. chacun-e)\n7.Election des quatre candidat-e-s pour le Conseil national\n8.Election des deux candidat-e-s pour le Conseil des Etats\n9.Budget 2019\n10.Votation sur le Mitage du territoire : présentation de Xavier Challandes\n11.Communications du Bureau\n12.Divers
URL:https://verts-ne.ch/event/assemblee-generale-ordinaire-des-verts-neuchatelois
LOCATION:Café de l’Univers\, Rue du Parc 37\, La Chaux-de-Fonds\, 2300\, Suisse
ATTACH;FMTTYPE=image/jpeg:https://verts-ne.ch/wp-content/uploads/sites/3/2018/09/Fondue.jpg
ORGANIZER;CN="Les Verts neuch%C3%A2telois":MAILTO:verts-ne@bluewin.ch
END:VEVENT
END:VCALENDAR