BEGIN:VCALENDAR
VERSION:2.0
PRODID:-//Les Vert-e-s neuchâtelois-es - ECPv6.10.1.1//NONSGML v1.0//EN
CALSCALE:GREGORIAN
METHOD:PUBLISH
X-WR-CALNAME:Les Vert-e-s neuchâtelois-es
X-ORIGINAL-URL:https://verts-ne.ch
X-WR-CALDESC:Évènements pour Les Vert-e-s neuchâtelois-es
REFRESH-INTERVAL;VALUE=DURATION:PT1H
X-Robots-Tag:noindex
X-PUBLISHED-TTL:PT1H
BEGIN:VTIMEZONE
TZID:Europe/Zurich
BEGIN:DAYLIGHT
TZOFFSETFROM:+0100
TZOFFSETTO:+0200
TZNAME:CEST
DTSTART:20260329T010000
END:DAYLIGHT
BEGIN:STANDARD
TZOFFSETFROM:+0200
TZOFFSETTO:+0100
TZNAME:CET
DTSTART:20261025T010000
END:STANDARD
END:VTIMEZONE
BEGIN:VEVENT
DTSTART;TZID=Europe/Zurich:20260312T181500
DTEND;TZID=Europe/Zurich:20260312T194500
DTSTAMP:20260420T110416
CREATED:20260224T095545Z
LAST-MODIFIED:20260303T083619Z
UID:14527-1773339300-1773344700@verts-ne.ch
SUMMARY:Café citoyen - La Culture : enjeux artistiques\, économiques et politiques
DESCRIPTION:
URL:https://verts-ne.ch/event/cafe-citoyen-la-culture-enjeux-artistiques-economiques-et-politiques
LOCATION:Salon du Bleu Café\, Faubourg du lac 27\, Neuchâtel\, 2000\, Suisse
CATEGORIES:Evénements
END:VEVENT
END:VCALENDAR