BEGIN:VCALENDAR
VERSION:2.0
PRODID:-//Les Vert-e-s neuchâtelois-es - ECPv6.10.1.1//NONSGML v1.0//EN
CALSCALE:GREGORIAN
METHOD:PUBLISH
X-WR-CALNAME:Les Vert-e-s neuchâtelois-es
X-ORIGINAL-URL:https://verts-ne.ch
X-WR-CALDESC:Évènements pour Les Vert-e-s neuchâtelois-es
REFRESH-INTERVAL;VALUE=DURATION:PT1H
X-Robots-Tag:noindex
X-PUBLISHED-TTL:PT1H
BEGIN:VTIMEZONE
TZID:Europe/Zurich
BEGIN:DAYLIGHT
TZOFFSETFROM:+0100
TZOFFSETTO:+0200
TZNAME:CEST
DTSTART:20260329T010000
END:DAYLIGHT
BEGIN:STANDARD
TZOFFSETFROM:+0200
TZOFFSETTO:+0100
TZNAME:CET
DTSTART:20261025T010000
END:STANDARD
END:VTIMEZONE
BEGIN:VEVENT
DTSTART;TZID=Europe/Zurich:20260122T184500
DTEND;TZID=Europe/Zurich:20260122T210000
DTSTAMP:20260420T141846
CREATED:20251113T221547Z
LAST-MODIFIED:20251117T224217Z
UID:14366-1769107500-1769115600@verts-ne.ch
SUMMARY:Conférence L'agriculture bas carbone
DESCRIPTION:
URL:https://verts-ne.ch/event/conference-agriculture-1
LOCATION:CPNE\, Rue de la Serre 62\, La Chaux-de-Fonds
END:VEVENT
END:VCALENDAR