BEGIN:VCALENDAR
VERSION:2.0
PRODID:-//Les Vert-e-s neuchâtelois-es - ECPv6.10.1.1//NONSGML v1.0//EN
CALSCALE:GREGORIAN
METHOD:PUBLISH
X-WR-CALNAME:Les Vert-e-s neuchâtelois-es
X-ORIGINAL-URL:https://verts-ne.ch
X-WR-CALDESC:Évènements pour Les Vert-e-s neuchâtelois-es
REFRESH-INTERVAL;VALUE=DURATION:PT1H
X-Robots-Tag:noindex
X-PUBLISHED-TTL:PT1H
BEGIN:VTIMEZONE
TZID:Europe/Zurich
BEGIN:DAYLIGHT
TZOFFSETFROM:+0100
TZOFFSETTO:+0200
TZNAME:CEST
DTSTART:20250330T010000
END:DAYLIGHT
BEGIN:STANDARD
TZOFFSETFROM:+0200
TZOFFSETTO:+0100
TZNAME:CET
DTSTART:20251026T010000
END:STANDARD
END:VTIMEZONE
BEGIN:VEVENT
DTSTART;TZID=Europe/Zurich:20250507T194500
DTEND;TZID=Europe/Zurich:20250507T220000
DTSTAMP:20260420T142045
CREATED:20250407T151807Z
LAST-MODIFIED:20250407T151807Z
UID:14001-1746647100-1746655200@verts-ne.ch
SUMMARY:Conférence Innovation technologique et Sens de la vie
DESCRIPTION:
URL:https://verts-ne.ch/event/conference-innovation-technologique-et-sens-de-la-vie
LOCATION:Notre-Dame de la Paix\, Commerce 73\, La Chaux-de-Fonds
END:VEVENT
END:VCALENDAR