BEGIN:VCALENDAR
VERSION:2.0
PRODID:-//Les Vert-e-s neuchâtelois-es - ECPv6.10.1.1//NONSGML v1.0//EN
CALSCALE:GREGORIAN
METHOD:PUBLISH
X-WR-CALNAME:Les Vert-e-s neuchâtelois-es
X-ORIGINAL-URL:https://verts-ne.ch
X-WR-CALDESC:Évènements pour Les Vert-e-s neuchâtelois-es
REFRESH-INTERVAL;VALUE=DURATION:PT1H
X-Robots-Tag:noindex
X-PUBLISHED-TTL:PT1H
BEGIN:VTIMEZONE
TZID:Europe/Zurich
BEGIN:DAYLIGHT
TZOFFSETFROM:+0100
TZOFFSETTO:+0200
TZNAME:CEST
DTSTART:20260329T010000
END:DAYLIGHT
BEGIN:STANDARD
TZOFFSETFROM:+0200
TZOFFSETTO:+0100
TZNAME:CET
DTSTART:20261025T010000
END:STANDARD
END:VTIMEZONE
BEGIN:VEVENT
DTSTART;TZID=Europe/Zurich:20260219T184500
DTEND;TZID=Europe/Zurich:20260219T210000
DTSTAMP:20260420T155523
CREATED:20251113T222312Z
LAST-MODIFIED:20251117T224252Z
UID:14370-1771526700-1771534800@verts-ne.ch
SUMMARY:Conférence Quelle agriculture pour demain ?
DESCRIPTION:
URL:https://verts-ne.ch/event/conference-quelle-agriculture-pour-demain
LOCATION:Fontenelle\, Rue de Chasseral 3\, Cernier
CATEGORIES:Evénements
END:VEVENT
END:VCALENDAR