BEGIN:VCALENDAR
VERSION:2.0
PRODID:-//Les Vert-e-s neuchâtelois-es - ECPv6.10.1.1//NONSGML v1.0//EN
CALSCALE:GREGORIAN
METHOD:PUBLISH
X-WR-CALNAME:Les Vert-e-s neuchâtelois-es
X-ORIGINAL-URL:https://verts-ne.ch
X-WR-CALDESC:Évènements pour Les Vert-e-s neuchâtelois-es
REFRESH-INTERVAL;VALUE=DURATION:PT1H
X-Robots-Tag:noindex
X-PUBLISHED-TTL:PT1H
BEGIN:VTIMEZONE
TZID:Europe/Zurich
BEGIN:DAYLIGHT
TZOFFSETFROM:+0100
TZOFFSETTO:+0200
TZNAME:CEST
DTSTART:20210328T010000
END:DAYLIGHT
BEGIN:STANDARD
TZOFFSETFROM:+0200
TZOFFSETTO:+0100
TZNAME:CET
DTSTART:20211031T010000
END:STANDARD
END:VTIMEZONE
BEGIN:VEVENT
DTSTART;TZID=Europe/Zurich:20210327T090000
DTEND;TZID=Europe/Zurich:20210327T180000
DTSTAMP:20260420T142215
CREATED:20210322T141640Z
LAST-MODIFIED:20210322T141640Z
UID:6499-1616835600-1616868000@verts-ne.ch
SUMMARY:Elections cantonales: retrouvez nos candidat-e-s à La Chaux-de-Fonds
DESCRIPTION:Vous souhaitez rencontrer nos candidat-e-s Vert-e-s? Ils/elles seront à La Chaux-de-Fonds aux dates et lieux suivants: \n\n27 mars dans un lieu encore à définir\, animations musicales\, ludiques\n10 avril dans un lieu encore à définir\, animations musicales\, ludiques
URL:https://verts-ne.ch/event/elections-cantonales-retrouvez-nos-candidat-e-s-a-la-chaux-de-fonds
LOCATION:Ville de La Chaux-de-Fonds\, 2300
END:VEVENT
END:VCALENDAR