BEGIN:VCALENDAR
VERSION:2.0
PRODID:-//Les Vert-e-s neuchâtelois-es - ECPv6.10.1.1//NONSGML v1.0//EN
CALSCALE:GREGORIAN
METHOD:PUBLISH
X-WR-CALNAME:Les Vert-e-s neuchâtelois-es
X-ORIGINAL-URL:https://verts-ne.ch
X-WR-CALDESC:Évènements pour Les Vert-e-s neuchâtelois-es
REFRESH-INTERVAL;VALUE=DURATION:PT1H
X-Robots-Tag:noindex
X-PUBLISHED-TTL:PT1H
BEGIN:VTIMEZONE
TZID:Europe/Zurich
BEGIN:DAYLIGHT
TZOFFSETFROM:+0100
TZOFFSETTO:+0200
TZNAME:CEST
DTSTART:20210328T010000
END:DAYLIGHT
BEGIN:STANDARD
TZOFFSETFROM:+0200
TZOFFSETTO:+0100
TZNAME:CET
DTSTART:20211031T010000
END:STANDARD
END:VTIMEZONE
BEGIN:VEVENT
DTSTART;TZID=Europe/Zurich:20210403T083000
DTEND;TZID=Europe/Zurich:20210403T130000
DTSTAMP:20260420T142120
CREATED:20210326T100500Z
LAST-MODIFIED:20210326T100500Z
UID:6541-1617438600-1617454800@verts-ne.ch
SUMMARY:Elections cantonales: retrouvez nos candidat-e-s à Peseux
DESCRIPTION:Vous souhaitez rencontrer nos candidat-e-s Vert-e-s? Ils/elles seront à Peseux devant Cap 2000\, le 3 avril.
URL:https://verts-ne.ch/event/elections-cantonales-retrouvez-nos-candidat-e-s-a-peseux-2
LOCATION:Peseux\, Peseux\, 2034\, Suisse
ORGANIZER;CN="Les Verts du Littoral":MAILTO:vertslittoral@gmail.com
END:VEVENT
END:VCALENDAR