BEGIN:VCALENDAR
VERSION:2.0
PRODID:-//Les Vert-e-s neuchâtelois-es - ECPv6.10.1.1//NONSGML v1.0//EN
CALSCALE:GREGORIAN
METHOD:PUBLISH
X-WR-CALNAME:Les Vert-e-s neuchâtelois-es
X-ORIGINAL-URL:https://verts-ne.ch
X-WR-CALDESC:Évènements pour Les Vert-e-s neuchâtelois-es
REFRESH-INTERVAL;VALUE=DURATION:PT1H
X-Robots-Tag:noindex
X-PUBLISHED-TTL:PT1H
BEGIN:VTIMEZONE
TZID:Europe/Zurich
BEGIN:DAYLIGHT
TZOFFSETFROM:+0100
TZOFFSETTO:+0200
TZNAME:CEST
DTSTART:20210328T010000
END:DAYLIGHT
BEGIN:STANDARD
TZOFFSETFROM:+0200
TZOFFSETTO:+0100
TZNAME:CET
DTSTART:20211031T010000
END:STANDARD
END:VTIMEZONE
BEGIN:VEVENT
DTSTART;TZID=Europe/Zurich:20210417T090000
DTEND;TZID=Europe/Zurich:20210417T123000
DTSTAMP:20260420T142022
CREATED:20210412T064054Z
LAST-MODIFIED:20210412T064054Z
UID:6651-1618650000-1618662600@verts-ne.ch
SUMMARY:Faites connaissance avec nos candidat-e-s à Neuchâtel
DESCRIPTION:Les Vert-e-s tiendront un stand le samedi 17 avril à Neuchâtel (rue de l’Hôpital)
URL:https://verts-ne.ch/event/faites-connaissance-avec-nos-candidat-e-s-a-neuchatel
LOCATION:Ville de Neuchâtel\, 2000
END:VEVENT
END:VCALENDAR