BEGIN:VCALENDAR
VERSION:2.0
PRODID:-//Les Vert-e-s neuchâtelois-es - ECPv6.10.1.1//NONSGML v1.0//EN
CALSCALE:GREGORIAN
METHOD:PUBLISH
X-WR-CALNAME:Les Vert-e-s neuchâtelois-es
X-ORIGINAL-URL:https://verts-ne.ch
X-WR-CALDESC:Évènements pour Les Vert-e-s neuchâtelois-es
REFRESH-INTERVAL;VALUE=DURATION:PT1H
X-Robots-Tag:noindex
X-PUBLISHED-TTL:PT1H
BEGIN:VTIMEZONE
TZID:Europe/Zurich
BEGIN:DAYLIGHT
TZOFFSETFROM:+0100
TZOFFSETTO:+0200
TZNAME:CEST
DTSTART:20210328T010000
END:DAYLIGHT
BEGIN:STANDARD
TZOFFSETFROM:+0200
TZOFFSETTO:+0100
TZNAME:CET
DTSTART:20211031T010000
END:STANDARD
END:VTIMEZONE
BEGIN:VEVENT
DTSTART;TZID=Europe/Zurich:20210703T113000
DTEND;TZID=Europe/Zurich:20210703T160000
DTSTAMP:20260420T155259
CREATED:20210609T074624Z
LAST-MODIFIED:20210609T074624Z
UID:6934-1625311800-1625328000@verts-ne.ch
SUMMARY:Festi'Vert-e-s!
DESCRIPTION:Voilà une année déjà que nous avons dû abandonner nos rencontres\, contraint-e-s de nous limiter à des contacts par écrans interposés. La situation sanitaire actuelle s’améliorant\, nous avons le très grand plaisir d’inviter nos membres et sympathisant-e-s à notre fête annuelle FESTI’VERT-E-S : \nSAMEDI 3 JUILLET\, de 11h30 à 16h30 \nA la Ferme de Pierre-à-Bot à Neuchâtel \nPour des questions d’organisation\, l’inscription est obligatoire jusqu’au \njeudi 1er juillet à 18h via ce formulaire \nActuellement\, ce type d’événements en extérieur peut accueillir jusqu’à 50 personnes.\nProgramme: \nDès 11h30      Accueil \n12h00            Repas canadien (les boissons vous seront offertes). Des grills sont à votre disposition. Merci de prendre vos couverts et récipients. \nPour venir : \n·         Depuis la gare du Locle : départ à 10h33 avec le train voie 1\, arrivée à La Chaux-de-Fonds à 10h41 puis voir depuis La Chaux-de-Fonds. \n·         Depuis la gare de La Chaux-de-Fonds : départ à 10h51 bus direct 6419 (quai E) direction Neuchâtel\, arrivée à Neuchâtel-gare à 11h26\, puis voir depuis Neuchâtel. \n·         Depuis la gare de Neuchâtel : \n·         Bus 109 : départ 11h28\, direction Neuchâtel-Trois-Chênes\, arrêt Pierre-à-Bot \n·         Bus 421 : départ à 11h36\, direction Savagnier\, arrêt Pierre-à-Bot
URL:https://verts-ne.ch/event/festivert-e-s
LOCATION:Ferme de Pierre-à-Bot\, Neuchâtel\, Route de Pierre-à-Bot 94\, Neuchâtel\, 2000\, Suisse
ORGANIZER;CN="Secr%C3%A9tariat cantonal":MAILTO:verts-ne@bluewin.ch
END:VEVENT
END:VCALENDAR