BEGIN:VCALENDAR
VERSION:2.0
PRODID:-//Les Vert-e-s neuchâtelois-es - ECPv6.10.1.1//NONSGML v1.0//EN
CALSCALE:GREGORIAN
METHOD:PUBLISH
X-WR-CALNAME:Les Vert-e-s neuchâtelois-es
X-ORIGINAL-URL:https://verts-ne.ch
X-WR-CALDESC:Évènements pour Les Vert-e-s neuchâtelois-es
REFRESH-INTERVAL;VALUE=DURATION:PT1H
X-Robots-Tag:noindex
X-PUBLISHED-TTL:PT1H
BEGIN:VTIMEZONE
TZID:Europe/Zurich
BEGIN:DAYLIGHT
TZOFFSETFROM:+0100
TZOFFSETTO:+0200
TZNAME:CEST
DTSTART:20250330T010000
END:DAYLIGHT
BEGIN:STANDARD
TZOFFSETFROM:+0200
TZOFFSETTO:+0100
TZNAME:CET
DTSTART:20251026T010000
END:STANDARD
END:VTIMEZONE
BEGIN:VEVENT
DTSTART;TZID=Europe/Zurich:20251210T181500
DTEND;TZID=Europe/Zurich:20251210T191500
DTSTAMP:20260420T141847
CREATED:20251209T095639Z
LAST-MODIFIED:20251209T095639Z
UID:14404-1765390500-1765394100@verts-ne.ch
SUMMARY:Groupe Justice/Migration
DESCRIPTION:
URL:https://verts-ne.ch/event/groupe-justice-migration
LOCATION:Bureau des Vert·e·s neuchâtelois·es
END:VEVENT
END:VCALENDAR