BEGIN:VCALENDAR
VERSION:2.0
PRODID:-//Les Vert-e-s neuchâtelois-es - ECPv6.10.1.1//NONSGML v1.0//EN
CALSCALE:GREGORIAN
METHOD:PUBLISH
X-WR-CALNAME:Les Vert-e-s neuchâtelois-es
X-ORIGINAL-URL:https://verts-ne.ch
X-WR-CALDESC:Évènements pour Les Vert-e-s neuchâtelois-es
REFRESH-INTERVAL;VALUE=DURATION:PT1H
X-Robots-Tag:noindex
X-PUBLISHED-TTL:PT1H
BEGIN:VTIMEZONE
TZID:Europe/Zurich
BEGIN:DAYLIGHT
TZOFFSETFROM:+0100
TZOFFSETTO:+0200
TZNAME:CEST
DTSTART:20210328T010000
END:DAYLIGHT
BEGIN:STANDARD
TZOFFSETFROM:+0200
TZOFFSETTO:+0100
TZNAME:CET
DTSTART:20211031T010000
END:STANDARD
END:VTIMEZONE
BEGIN:VEVENT
DTSTART;TZID=Europe/Zurich:20210410T140000
DTEND;TZID=Europe/Zurich:20210410T160000
DTSTAMP:20260420T141844
CREATED:20210407T080415Z
LAST-MODIFIED:20210407T080415Z
UID:6628-1618063200-1618070400@verts-ne.ch
SUMMARY:Marche avec les Vert-e-s
DESCRIPTION:Les Vert-e-s des Montagnes organisent une marche des Arêts aux Foulets. Toutes les infos ici.
URL:https://verts-ne.ch/event/marche-avec-les-vert-e-s
LOCATION:Ville de La Chaux-de-Fonds\, 2300
END:VEVENT
END:VCALENDAR