BEGIN:VCALENDAR
VERSION:2.0
PRODID:-//Les Vert-e-s neuchâtelois-es - ECPv6.10.1.1//NONSGML v1.0//EN
CALSCALE:GREGORIAN
METHOD:PUBLISH
X-WR-CALNAME:Les Vert-e-s neuchâtelois-es
X-ORIGINAL-URL:https://verts-ne.ch
X-WR-CALDESC:Évènements pour Les Vert-e-s neuchâtelois-es
REFRESH-INTERVAL;VALUE=DURATION:PT1H
X-Robots-Tag:noindex
X-PUBLISHED-TTL:PT1H
BEGIN:VTIMEZONE
TZID:Europe/Zurich
BEGIN:DAYLIGHT
TZOFFSETFROM:+0100
TZOFFSETTO:+0200
TZNAME:CEST
DTSTART:20180325T010000
END:DAYLIGHT
BEGIN:STANDARD
TZOFFSETFROM:+0200
TZOFFSETTO:+0100
TZNAME:CET
DTSTART:20181028T010000
END:STANDARD
END:VTIMEZONE
BEGIN:VEVENT
DTSTART;TZID=Europe/Zurich:20180909T140000
DTEND;TZID=Europe/Zurich:20180909T170000
DTSTAMP:20260420T142127
CREATED:20180808T112223Z
LAST-MODIFIED:20180808T112223Z
UID:2399-1536501600-1536512400@verts-ne.ch
SUMMARY:Partageons nos idées durables pour La Grande Béroche de demain!
DESCRIPTION:Dans la lignée du film « Demain »\, de nombreuses initiatives locales visant à préserver notre planète et le climat ont éclos sur le Littoral neuchâtelois. Afin de réunir les acteurs régionaux de ce changement\, les Verts de La Grande Béroche organisent une après-midi\, ouverte à toutes et tous\, de partage d’idées et de bons plans le dimanche 9 septembre dans la salle de Castel Saint Roch (St-Aubin-Sauges). \nQuelles astuces pour économiser l’énergie dans sa maison ? Que faire pour réduire ses déchets ? Créer son propre dentifrice ? Comment transmettre à ses bambins le goût de protéger la nature ? Inciter les autorités de sa commune à favoriser la biodiversité ? Amener plus de verdure près de chez soi ? Autant de questions – et bien d’autres – qui trouveront des réponses\, ou au moins quelques pistes\, au cours de cet événement de rencontres et d’échanges. \nDe 14h à 17h\, nos « héros » de la région\, porteurs d’initiatives durables\, proposeront plusieurs activités sous la forme de petits ateliers ludiques. Tout le monde est invité à participer\, des plus petits aux plus grands. Une après-midi conviviale qui laissera également la place aux discussions pour imaginer et développer de nouvelles idées qui façonneront La Grande Béroche de demain ! \nIntervenants: \n\nLa Ludiole [page Facebook] : Claudine Laperrouza et Thierry Pittet\n« Demain chez Nous » \n« Zéro déchets » avec Séverine Rollier  \nRoger Hofstetter\, paysagiste\n\n  \nDimanche 9 septembre de 14h à 17h au Castel Saint Roch (rue du Senet 14\, St-Aubin-Sauges). Entrée libre et gratuite. Café et gâteaux offerts.
URL:https://verts-ne.ch/event/partageons-nos-idees-durables-pour-la-grande-beroche-de-demain
LOCATION:Castel St-Roch\, St-Aubin-Sauges\, Rue du Senet 14\, St-Aubin-Sauges\, Suisse
END:VEVENT
END:VCALENDAR