BEGIN:VCALENDAR
VERSION:2.0
PRODID:-//Les Vert-e-s neuchâtelois-es - ECPv6.10.1.1//NONSGML v1.0//EN
CALSCALE:GREGORIAN
METHOD:PUBLISH
X-WR-CALNAME:Les Vert-e-s neuchâtelois-es
X-ORIGINAL-URL:https://verts-ne.ch
X-WR-CALDESC:Évènements pour Les Vert-e-s neuchâtelois-es
REFRESH-INTERVAL;VALUE=DURATION:PT1H
X-Robots-Tag:noindex
X-PUBLISHED-TTL:PT1H
BEGIN:VTIMEZONE
TZID:Europe/Zurich
BEGIN:DAYLIGHT
TZOFFSETFROM:+0100
TZOFFSETTO:+0200
TZNAME:CEST
DTSTART:20230326T010000
END:DAYLIGHT
BEGIN:STANDARD
TZOFFSETFROM:+0200
TZOFFSETTO:+0100
TZNAME:CET
DTSTART:20231029T010000
END:STANDARD
END:VTIMEZONE
BEGIN:VEVENT
DTSTART;TZID=Europe/Zurich:20230915T120000
DTEND;TZID=Europe/Zurich:20230915T140000
DTSTAMP:20260420T142124
CREATED:20230905T133104Z
LAST-MODIFIED:20230905T133104Z
UID:11238-1694779200-1694786400@verts-ne.ch
SUMMARY:Pique-nique pour le climat\, suivi d'une discussion+action
DESCRIPTION:
URL:https://verts-ne.ch/event/pique-nique-pour-le-climat-suivi-dune-discussionaction
LOCATION:jardin anglais\, Neuchâtel
END:VEVENT
END:VCALENDAR