BEGIN:VCALENDAR
VERSION:2.0
PRODID:-//Les Vert-e-s neuchâtelois-es - ECPv6.10.1.1//NONSGML v1.0//EN
CALSCALE:GREGORIAN
METHOD:PUBLISH
X-WR-CALNAME:Les Vert-e-s neuchâtelois-es
X-ORIGINAL-URL:https://verts-ne.ch
X-WR-CALDESC:Évènements pour Les Vert-e-s neuchâtelois-es
REFRESH-INTERVAL;VALUE=DURATION:PT1H
X-Robots-Tag:noindex
X-PUBLISHED-TTL:PT1H
BEGIN:VTIMEZONE
TZID:Europe/Zurich
BEGIN:DAYLIGHT
TZOFFSETFROM:+0100
TZOFFSETTO:+0200
TZNAME:CEST
DTSTART:20210328T010000
END:DAYLIGHT
BEGIN:STANDARD
TZOFFSETFROM:+0200
TZOFFSETTO:+0100
TZNAME:CET
DTSTART:20211031T010000
END:STANDARD
END:VTIMEZONE
BEGIN:VEVENT
DTSTART;TZID=Europe/Zurich:20210403T140000
DTEND;TZID=Europe/Zurich:20210403T180000
DTSTAMP:20260420T155353
CREATED:20210326T101024Z
LAST-MODIFIED:20210326T101024Z
UID:6545-1617458400-1617472800@verts-ne.ch
SUMMARY:Ramassage des déchets à La Chaux-de-Fonds
DESCRIPTION:Les partis et associations chaux-de-fonnières s’associent pour une après-midi de ramassage des déchets à La Chaux-de-Fonds\, le samedi 3 avril. Inscription ici.
URL:https://verts-ne.ch/event/ramassage-des-dechets-a-la-chaux-de-fonds
LOCATION:Ville de La Chaux-de-Fonds\, 2300
ORGANIZER;CN="Les Verts du Littoral":MAILTO:vertslittoral@gmail.com
END:VEVENT
END:VCALENDAR