BEGIN:VCALENDAR
VERSION:2.0
PRODID:-//Les Vert-e-s neuchâtelois-es - ECPv6.10.1.1//NONSGML v1.0//EN
CALSCALE:GREGORIAN
METHOD:PUBLISH
X-WR-CALNAME:Les Vert-e-s neuchâtelois-es
X-ORIGINAL-URL:https://verts-ne.ch
X-WR-CALDESC:Évènements pour Les Vert-e-s neuchâtelois-es
REFRESH-INTERVAL;VALUE=DURATION:PT1H
X-Robots-Tag:noindex
X-PUBLISHED-TTL:PT1H
BEGIN:VTIMEZONE
TZID:Europe/Zurich
BEGIN:DAYLIGHT
TZOFFSETFROM:+0100
TZOFFSETTO:+0200
TZNAME:CEST
DTSTART:20220327T010000
END:DAYLIGHT
BEGIN:STANDARD
TZOFFSETFROM:+0200
TZOFFSETTO:+0100
TZNAME:CET
DTSTART:20221030T010000
END:STANDARD
END:VTIMEZONE
BEGIN:VEVENT
DTSTART;TZID=Europe/Zurich:20221210T130000
DTEND;TZID=Europe/Zurich:20221210T170000
DTSTAMP:20260420T141842
CREATED:20221201T170409Z
LAST-MODIFIED:20221201T170409Z
UID:10172-1670677200-1670691600@verts-ne.ch
SUMMARY:Récolte de signatures
DESCRIPTION:
URL:https://verts-ne.ch/event/recolte-de-signatures
LOCATION:Ville de La Chaux-de-Fonds\, 2300
END:VEVENT
END:VCALENDAR