BEGIN:VCALENDAR
VERSION:2.0
PRODID:-//Les Vert-e-s neuchâtelois-es - ECPv6.10.1.1//NONSGML v1.0//EN
CALSCALE:GREGORIAN
METHOD:PUBLISH
X-WR-CALNAME:Les Vert-e-s neuchâtelois-es
X-ORIGINAL-URL:https://verts-ne.ch
X-WR-CALDESC:Évènements pour Les Vert-e-s neuchâtelois-es
REFRESH-INTERVAL;VALUE=DURATION:PT1H
X-Robots-Tag:noindex
X-PUBLISHED-TTL:PT1H
BEGIN:VTIMEZONE
TZID:Europe/Zurich
BEGIN:DAYLIGHT
TZOFFSETFROM:+0100
TZOFFSETTO:+0200
TZNAME:CEST
DTSTART:20210328T010000
END:DAYLIGHT
BEGIN:STANDARD
TZOFFSETFROM:+0200
TZOFFSETTO:+0100
TZNAME:CET
DTSTART:20211031T010000
END:STANDARD
END:VTIMEZONE
BEGIN:VEVENT
DTSTART;VALUE=DATE:20210328
DTEND;VALUE=DATE:20210329
DTSTAMP:20260420T155437
CREATED:20210326T095704Z
LAST-MODIFIED:20210326T095704Z
UID:6538-1616889600-1616975999@verts-ne.ch
SUMMARY:Rencontre avec les Zadistes de la colline du Mormont
DESCRIPTION:Les Vert-e-s des Montagnes vous invitent à rencontrer les Zadistes de la colline du Mormont le dimanche 28 mars. \nToutes les infos ici.
URL:https://verts-ne.ch/event/rencontre-avec-les-zadistes-de-la-colline-du-mormont
LOCATION:La Sarraz\, La Sarraz
END:VEVENT
END:VCALENDAR