BEGIN:VCALENDAR
VERSION:2.0
PRODID:-//Les Vert-e-s neuchâtelois-es - ECPv6.10.1.1//NONSGML v1.0//EN
CALSCALE:GREGORIAN
METHOD:PUBLISH
X-WR-CALNAME:Les Vert-e-s neuchâtelois-es
X-ORIGINAL-URL:https://verts-ne.ch
X-WR-CALDESC:Évènements pour Les Vert-e-s neuchâtelois-es
REFRESH-INTERVAL;VALUE=DURATION:PT1H
X-Robots-Tag:noindex
X-PUBLISHED-TTL:PT1H
BEGIN:VTIMEZONE
TZID:Europe/Zurich
BEGIN:DAYLIGHT
TZOFFSETFROM:+0100
TZOFFSETTO:+0200
TZNAME:CEST
DTSTART:20240331T010000
END:DAYLIGHT
BEGIN:STANDARD
TZOFFSETFROM:+0200
TZOFFSETTO:+0100
TZNAME:CET
DTSTART:20241027T010000
END:STANDARD
END:VTIMEZONE
BEGIN:VEVENT
DTSTART;TZID=Europe/Zurich:20240415T183000
DTEND;TZID=Europe/Zurich:20240415T183000
DTSTAMP:20260420T141943
CREATED:20240314T144750Z
LAST-MODIFIED:20240314T144750Z
UID:12449-1713205800-1713205800@verts-ne.ch
SUMMARY:Stamm - rencontre avec les candidat.e.s de La Chaux-de-Fonds
DESCRIPTION:
URL:https://verts-ne.ch/event/rencontre_avec_les_candidat-e-s
LOCATION:Café du coin\, La Chaux-de-Fonds
CATEGORIES:Evénements
END:VEVENT
END:VCALENDAR