BEGIN:VCALENDAR
VERSION:2.0
PRODID:-//Les Vert-e-s neuchâtelois-es - ECPv6.10.1.1//NONSGML v1.0//EN
CALSCALE:GREGORIAN
METHOD:PUBLISH
X-WR-CALNAME:Les Vert-e-s neuchâtelois-es
X-ORIGINAL-URL:https://verts-ne.ch
X-WR-CALDESC:Évènements pour Les Vert-e-s neuchâtelois-es
REFRESH-INTERVAL;VALUE=DURATION:PT1H
X-Robots-Tag:noindex
X-PUBLISHED-TTL:PT1H
BEGIN:VTIMEZONE
TZID:Europe/Zurich
BEGIN:DAYLIGHT
TZOFFSETFROM:+0100
TZOFFSETTO:+0200
TZNAME:CEST
DTSTART:20210328T010000
END:DAYLIGHT
BEGIN:STANDARD
TZOFFSETFROM:+0200
TZOFFSETTO:+0100
TZNAME:CET
DTSTART:20211031T010000
END:STANDARD
END:VTIMEZONE
BEGIN:VEVENT
DTSTART;TZID=Europe/Zurich:20210410T090000
DTEND;TZID=Europe/Zurich:20210410T123000
DTSTAMP:20260420T142113
CREATED:20210407T080051Z
LAST-MODIFIED:20210407T080051Z
UID:6623-1618045200-1618057800@verts-ne.ch
SUMMARY:Rencontrez nos candidat-e-s à Neuchâtel
DESCRIPTION:Les candidat-e-s Vert-e-s tiennent un stand à Neuchâtel (Rue du Bassin)\, le samedi 10 avril.
URL:https://verts-ne.ch/event/rencontrez-nos-candidat-e-s-a-neuchatel
LOCATION:Ville de Neuchâtel\, 2000
END:VEVENT
END:VCALENDAR