BEGIN:VCALENDAR
VERSION:2.0
PRODID:-//Les Vert-e-s neuchâtelois-es - ECPv6.10.1.1//NONSGML v1.0//EN
CALSCALE:GREGORIAN
METHOD:PUBLISH
X-WR-CALNAME:Les Vert-e-s neuchâtelois-es
X-ORIGINAL-URL:https://verts-ne.ch
X-WR-CALDESC:Évènements pour Les Vert-e-s neuchâtelois-es
REFRESH-INTERVAL;VALUE=DURATION:PT1H
X-Robots-Tag:noindex
X-PUBLISHED-TTL:PT1H
BEGIN:VTIMEZONE
TZID:Europe/Zurich
BEGIN:DAYLIGHT
TZOFFSETFROM:+0100
TZOFFSETTO:+0200
TZNAME:CEST
DTSTART:20190331T010000
END:DAYLIGHT
BEGIN:STANDARD
TZOFFSETFROM:+0200
TZOFFSETTO:+0100
TZNAME:CET
DTSTART:20191027T010000
END:STANDARD
END:VTIMEZONE
BEGIN:VEVENT
DTSTART;TZID=Europe/Zurich:20191106T182000
DTEND;TZID=Europe/Zurich:20191106T192000
DTSTAMP:20260420T141914
CREATED:20191025T085629Z
LAST-MODIFIED:20191025T085629Z
UID:3370-1573064400-1573068000@verts-ne.ch
SUMMARY:Séance du Comité cantonal
DESCRIPTION:
URL:https://verts-ne.ch/event/seance-du-comite-cantonal-11
LOCATION:Hôtel des communes\, Les Geneveys-sur-Coffrane\, Rue du Premier-Mars 1\, Les Geneveys-sur-Coffrane\, 2206
ORGANIZER;CN="Secr%C3%A9tariat cantonal":MAILTO:verts-ne@bluewin.ch
END:VEVENT
END:VCALENDAR